BEGIN:VCALENDAR
VERSION:2.0
PRODID:-//Cristeen Breandon - ECPv6.15.20//NONSGML v1.0//EN
CALSCALE:GREGORIAN
METHOD:PUBLISH
X-WR-CALNAME:Cristeen Breandon
X-ORIGINAL-URL:https://terresdetamaris.com
X-WR-CALDESC:Évènements pour Cristeen Breandon
REFRESH-INTERVAL;VALUE=DURATION:PT1H
X-Robots-Tag:noindex
X-PUBLISHED-TTL:PT1H
BEGIN:VTIMEZONE
TZID:UTC
BEGIN:STANDARD
TZOFFSETFROM:+0000
TZOFFSETTO:+0000
TZNAME:UTC
DTSTART:20220101T000000
END:STANDARD
END:VTIMEZONE
BEGIN:VEVENT
DTSTART;TZID=UTC:20230921T100000
DTEND;TZID=UTC:20230924T180000
DTSTAMP:20260421T192458
CREATED:20231103T082227Z
LAST-MODIFIED:20231103T082837Z
UID:8698-1695290400-1695578400@terresdetamaris.com
SUMMARY:12 ème Salon international d'art à HYÈRES-les-palmiers
DESCRIPTION:Peintres\, sculpteurs\, photographes… Forum du Casino de Hyères-les-palmiers
URL:https://terresdetamaris.com/calendrier/12-eme-salon-international-dart-a-hyeres-les-palmiers/
END:VEVENT
END:VCALENDAR